Package: EpiCompare Version: 1.2.0 Command: rm -rf EpiCompare.buildbin-libdir && mkdir EpiCompare.buildbin-libdir && F:\biocbuild\bbs-3.16-bioc\R\bin\R.exe CMD INSTALL --build --library=EpiCompare.buildbin-libdir EpiCompare_1.2.0.tar.gz StartedAt: 2023-04-11 07:57:11 -0400 (Tue, 11 Apr 2023) EndedAt: 2023-04-11 07:58:13 -0400 (Tue, 11 Apr 2023) EllapsedTime: 62.2 seconds RetCode: 0 Status: OK PackageFile: EpiCompare_1.2.0.zip PackageFileSize: 1.413 MiB