Package: EnMCB Version: 1.10.0 Command: F:\biocbuild\bbs-3.16-bioc\R\bin\R.exe CMD check --no-multiarch --install=check:EnMCB.install-out.txt --library=F:\biocbuild\bbs-3.16-bioc\R\library --no-vignettes --timings EnMCB_1.10.0.tar.gz StartedAt: 2023-04-11 01:10:50 -0400 (Tue, 11 Apr 2023) EndedAt: 2023-04-11 01:13:56 -0400 (Tue, 11 Apr 2023) EllapsedTime: 185.5 seconds RetCode: 0 Status: OK CheckDir: EnMCB.Rcheck Warnings: 0