Package: EnMCB Version: 1.10.0 Command: chmod a+r EnMCB -R && F:\biocbuild\bbs-3.16-bioc\R\bin\R.exe CMD build --keep-empty-dirs --no-resave-data EnMCB StartedAt: 2023-04-10 18:24:05 -0400 (Mon, 10 Apr 2023) EndedAt: 2023-04-10 18:26:44 -0400 (Mon, 10 Apr 2023) EllapsedTime: 159.1 seconds RetCode: 0 Status: OK PackageFile: EnMCB_1.10.0.tar.gz PackageFileSize: 156.9 KiB