Package: EnMCB Version: 1.10.0 Command: rm -rf EnMCB.buildbin-libdir && mkdir EnMCB.buildbin-libdir && F:\biocbuild\bbs-3.16-bioc\R\bin\R.exe CMD INSTALL --build --library=EnMCB.buildbin-libdir EnMCB_1.10.0.tar.gz StartedAt: 2023-04-11 07:56:54 -0400 (Tue, 11 Apr 2023) EndedAt: 2023-04-11 07:57:15 -0400 (Tue, 11 Apr 2023) EllapsedTime: 21.2 seconds RetCode: 0 Status: OK PackageFile: EnMCB_1.10.0.zip PackageFileSize: 305.3 KiB