Package: EBSeqHMM Version: 1.32.0 Command: /Library/Frameworks/R.framework/Resources/bin/R CMD INSTALL EBSeqHMM StartedAt: 2023-04-10 15:09:25 -0400 (Mon, 10 Apr 2023) EndedAt: 2023-04-10 15:09:48 -0400 (Mon, 10 Apr 2023) EllapsedTime: 23.7 seconds RetCode: 0 Status: OK