Package: DeepBlueR Version: 1.24.1 Command: /Library/Frameworks/R.framework/Resources/bin/R CMD check --install=check:DeepBlueR.install-out.txt --library=/Library/Frameworks/R.framework/Resources/library --no-vignettes --timings DeepBlueR_1.24.1.tar.gz StartedAt: 2023-04-10 19:47:07 -0400 (Mon, 10 Apr 2023) EndedAt: 2023-04-10 19:51:35 -0400 (Mon, 10 Apr 2023) EllapsedTime: 268.0 seconds RetCode: 0 Status: OK CheckDir: DeepBlueR.Rcheck Warnings: 0