Package: DNAcopy Version: 1.71.0 Command: rm -rf DNAcopy.buildbin-libdir && mkdir DNAcopy.buildbin-libdir && /Users/biocbuild/BBS/utils/build-universal.sh DNAcopy_1.71.0.tar.gz /Library/Frameworks/R.framework/Resources/bin/R DNAcopy.buildbin-libdir StartedAt: 2022-07-07 07:50:42 -0400 (Thu, 07 Jul 2022) EndedAt: 2022-07-07 07:51:04 -0400 (Thu, 07 Jul 2022) EllapsedTime: 22.0 seconds RetCode: 1 Status: ERROR PackageFile: None PackageFileSize: NA