Package: DEComplexDisease Version: 1.17.1 Command: /Library/Frameworks/R.framework/Resources/bin/R CMD build --keep-empty-dirs --no-resave-data DEComplexDisease StartedAt: 2022-07-06 20:02:45 -0400 (Wed, 06 Jul 2022) EndedAt: 2022-07-06 20:02:46 -0400 (Wed, 06 Jul 2022) EllapsedTime: 1.0 seconds RetCode: 1 Status: ERROR PackageFile: None PackageFileSize: NA