Package: CytoDx Version: 1.18.0 Command: /Library/Frameworks/R.framework/Resources/bin/R CMD INSTALL CytoDx StartedAt: 2023-04-10 15:15:34 -0400 (Mon, 10 Apr 2023) EndedAt: 2023-04-10 15:15:48 -0400 (Mon, 10 Apr 2023) EllapsedTime: 14.1 seconds RetCode: 0 Status: OK