Package: Clomial Version: 1.34.0 Command: /Library/Frameworks/R.framework/Resources/bin/R CMD check --install=check:Clomial.install-out.txt --library=/Library/Frameworks/R.framework/Resources/library --no-vignettes --timings Clomial_1.34.0.tar.gz StartedAt: 2023-04-10 19:25:49 -0400 (Mon, 10 Apr 2023) EndedAt: 2023-04-10 19:27:48 -0400 (Mon, 10 Apr 2023) EllapsedTime: 119.7 seconds RetCode: 0 Status: OK CheckDir: Clomial.Rcheck Warnings: 0