Package: ChemmineOB Version: 1.35.2 Command: /Library/Frameworks/R.framework/Resources/bin/R CMD INSTALL ChemmineOB StartedAt: 2022-07-10 15:40:01 -0400 (Sun, 10 Jul 2022) EndedAt: 2022-07-10 15:40:12 -0400 (Sun, 10 Jul 2022) EllapsedTime: 11.0 seconds RetCode: 1 Status: ERROR