Package: ChIPseqR Version: 1.52.0 Command: F:\biocbuild\bbs-3.16-bioc\R\bin\R.exe CMD check --no-multiarch --install=check:ChIPseqR.install-out.txt --library=F:\biocbuild\bbs-3.16-bioc\R\library --no-vignettes --timings ChIPseqR_1.52.0.tar.gz StartedAt: 2023-04-10 23:54:01 -0400 (Mon, 10 Apr 2023) EndedAt: 2023-04-10 23:57:49 -0400 (Mon, 10 Apr 2023) EllapsedTime: 228.2 seconds RetCode: 0 Status: OK CheckDir: ChIPseqR.Rcheck Warnings: 0