Package: ChIPexoQual Version: 1.22.0 Command: /Library/Frameworks/R.framework/Resources/bin/R CMD INSTALL ChIPexoQual StartedAt: 2023-04-10 15:37:59 -0400 (Mon, 10 Apr 2023) EndedAt: 2023-04-10 15:38:52 -0400 (Mon, 10 Apr 2023) EllapsedTime: 53.3 seconds RetCode: 0 Status: OK