Package: CexoR Version: 1.36.0 Command: chmod a+r CexoR -R && F:\biocbuild\bbs-3.16-bioc\R\bin\R.exe CMD build --keep-empty-dirs --no-resave-data CexoR StartedAt: 2023-04-10 17:40:17 -0400 (Mon, 10 Apr 2023) EndedAt: 2023-04-10 17:41:26 -0400 (Mon, 10 Apr 2023) EllapsedTime: 69.2 seconds RetCode: 0 Status: OK PackageFile: CexoR_1.36.0.tar.gz PackageFileSize: 1.661 MiB