Package: CTDquerier Version: 2.6.0 Command: F:\biocbuild\bbs-3.16-bioc\R\bin\R.exe CMD check --no-multiarch --install=check:CTDquerier.install-out.txt --library=F:\biocbuild\bbs-3.16-bioc\R\library --no-vignettes --timings CTDquerier_2.6.0.tar.gz StartedAt: 2023-04-11 00:30:06 -0400 (Tue, 11 Apr 2023) EndedAt: 2023-04-11 00:33:12 -0400 (Tue, 11 Apr 2023) EllapsedTime: 186.1 seconds RetCode: 0 Status: WARNINGS CheckDir: CTDquerier.Rcheck Warnings: 1