Package: COCOA Version: 2.11.0 Command: /Library/Frameworks/R.framework/Resources/bin/R CMD INSTALL COCOA StartedAt: 2022-07-10 18:55:30 -0400 (Sun, 10 Jul 2022) EndedAt: 2022-07-10 18:55:31 -0400 (Sun, 10 Jul 2022) EllapsedTime: 1.2 seconds RetCode: 1 Status: ERROR