Package: CMA Version: 1.56.0 Command: F:\biocbuild\bbs-3.16-bioc\R\bin\R.exe CMD INSTALL CMA StartedAt: 2023-04-10 15:35:43 -0400 (Mon, 10 Apr 2023) EndedAt: 2023-04-10 15:36:25 -0400 (Mon, 10 Apr 2023) EllapsedTime: 42.0 seconds RetCode: 0 Status: OK