Package: CFAssay Version: 1.32.0 Command: /home/biocbuild/bbs-3.16-bioc/R/bin/R CMD check --install=check:CFAssay.install-out.txt --library=/home/biocbuild/bbs-3.16-bioc/R/site-library --timings CFAssay_1.32.0.tar.gz StartedAt: 2023-04-10 19:37:10 -0400 (Mon, 10 Apr 2023) EndedAt: 2023-04-10 19:37:30 -0400 (Mon, 10 Apr 2023) EllapsedTime: 20.4 seconds RetCode: 0 Status: OK CheckDir: CFAssay.Rcheck Warnings: 0