Package: CBEA Version: 1.2.0 Command: rm -rf CBEA.buildbin-libdir && mkdir CBEA.buildbin-libdir && F:\biocbuild\bbs-3.16-bioc\R\bin\R.exe CMD INSTALL --build --library=CBEA.buildbin-libdir CBEA_1.2.0.tar.gz StartedAt: 2023-04-11 07:40:59 -0400 (Tue, 11 Apr 2023) EndedAt: 2023-04-11 07:41:59 -0400 (Tue, 11 Apr 2023) EllapsedTime: 59.9 seconds RetCode: 0 Status: OK PackageFile: CBEA_1.2.0.zip PackageFileSize: 2.473 MiB