Package: CBEA Version: 1.1.0 Command: /Library/Frameworks/R.framework/Resources/bin/R CMD INSTALL CBEA StartedAt: 2022-07-10 19:30:13 -0400 (Sun, 10 Jul 2022) EndedAt: 2022-07-10 19:32:03 -0400 (Sun, 10 Jul 2022) EllapsedTime: 110.4 seconds RetCode: 0 Status: OK