Package: CAGEfightR Version: 1.18.0 Command: rm -rf CAGEfightR.buildbin-libdir && mkdir CAGEfightR.buildbin-libdir && F:\biocbuild\bbs-3.16-bioc\R\bin\R.exe CMD INSTALL --build --library=CAGEfightR.buildbin-libdir CAGEfightR_1.18.0.tar.gz StartedAt: 2023-04-11 07:40:11 -0400 (Tue, 11 Apr 2023) EndedAt: 2023-04-11 07:41:50 -0400 (Tue, 11 Apr 2023) EllapsedTime: 98.6 seconds RetCode: 0 Status: OK PackageFile: CAGEfightR_1.18.0.zip PackageFileSize: 2.585 MiB