Package: CAEN Version: 1.6.0 Command: F:\biocbuild\bbs-3.16-bioc\R\bin\R.exe CMD check --no-multiarch --install=check:CAEN.install-out.txt --library=F:\biocbuild\bbs-3.16-bioc\R\library --no-vignettes --timings CAEN_1.6.0.tar.gz StartedAt: 2023-04-10 23:35:19 -0400 (Mon, 10 Apr 2023) EndedAt: 2023-04-10 23:37:31 -0400 (Mon, 10 Apr 2023) EllapsedTime: 132.6 seconds RetCode: 0 Status: OK CheckDir: CAEN.Rcheck Warnings: 0