Package: BitSeq Version: 1.41.0 Command: F:\biocbuild\bbs-3.16-bioc\R\bin\R.exe CMD check --force-multiarch --install=check:BitSeq.install-out.txt --library=F:\biocbuild\bbs-3.16-bioc\R\library --no-vignettes --timings BitSeq_1.41.0.tar.gz StartedAt: 2022-05-09 22:24:58 -0400 (Mon, 09 May 2022) EndedAt: 2022-05-09 22:27:14 -0400 (Mon, 09 May 2022) EllapsedTime: 135.8 seconds RetCode: 0 Status: WARNINGS CheckDir: BitSeq.Rcheck Warnings: 1