Package: BiocOncoTK Version: 1.18.0 Command: /Library/Frameworks/R.framework/Resources/bin/R CMD check --install=check:BiocOncoTK.install-out.txt --library=/Library/Frameworks/R.framework/Resources/library --no-vignettes --timings BiocOncoTK_1.18.0.tar.gz StartedAt: 2023-04-10 19:01:21 -0400 (Mon, 10 Apr 2023) EndedAt: 2023-04-10 19:07:47 -0400 (Mon, 10 Apr 2023) EllapsedTime: 385.2 seconds RetCode: 0 Status: WARNINGS CheckDir: BiocOncoTK.Rcheck Warnings: 1