Package: BiRewire Version: 3.29.0 Command: /Library/Frameworks/R.framework/Resources/bin/R CMD build --keep-empty-dirs --no-resave-data BiRewire StartedAt: 2022-07-11 00:33:29 -0400 (Mon, 11 Jul 2022) EndedAt: 2022-07-11 00:40:50 -0400 (Mon, 11 Jul 2022) EllapsedTime: 440.6 seconds RetCode: 0 Status: OK PackageFile: BiRewire_3.29.0.tar.gz PackageFileSize: 725.8 KiB