Package: BiFET Version: 1.18.0 Command: /Library/Frameworks/R.framework/Resources/bin/R CMD check --install=check:BiFET.install-out.txt --library=/Library/Frameworks/R.framework/Resources/library --no-vignettes --timings BiFET_1.18.0.tar.gz StartedAt: 2023-04-10 18:59:20 -0400 (Mon, 10 Apr 2023) EndedAt: 2023-04-10 19:01:53 -0400 (Mon, 10 Apr 2023) EllapsedTime: 152.8 seconds RetCode: 0 Status: OK CheckDir: BiFET.Rcheck Warnings: 0