Package: BatchQC Version: 1.25.0 Command: /Library/Frameworks/R.framework/Resources/bin/R CMD build --keep-empty-dirs --no-resave-data BatchQC StartedAt: 2022-07-10 21:09:28 -0400 (Sun, 10 Jul 2022) EndedAt: 2022-07-10 21:10:12 -0400 (Sun, 10 Jul 2022) EllapsedTime: 43.6 seconds RetCode: 0 Status: OK PackageFile: BatchQC_1.25.0.tar.gz PackageFileSize: 1.498 MiB