Package: BaalChIP Version: 1.23.0 Command: /Library/Frameworks/R.framework/Resources/bin/R CMD build --keep-empty-dirs --no-resave-data BaalChIP StartedAt: 2022-07-10 20:55:17 -0400 (Sun, 10 Jul 2022) EndedAt: 2022-07-10 20:58:25 -0400 (Sun, 10 Jul 2022) EllapsedTime: 187.9 seconds RetCode: 0 Status: OK PackageFile: BaalChIP_1.23.0.tar.gz PackageFileSize: 45.15 MiB