Package: BUScorrect Version: 1.16.0 Command: /Library/Frameworks/R.framework/Resources/bin/R CMD INSTALL BUScorrect StartedAt: 2023-04-10 15:11:02 -0400 (Mon, 10 Apr 2023) EndedAt: 2023-04-10 15:11:28 -0400 (Mon, 10 Apr 2023) EllapsedTime: 25.5 seconds RetCode: 0 Status: OK