Package: BSgenome Version: 1.66.3 Command: /Library/Frameworks/R.framework/Resources/bin/R CMD INSTALL BSgenome StartedAt: 2023-04-10 15:28:03 -0400 (Mon, 10 Apr 2023) EndedAt: 2023-04-10 15:28:51 -0400 (Mon, 10 Apr 2023) EllapsedTime: 48.4 seconds RetCode: 0 Status: OK