Package: BASiCStan Version: 1.0.0 Command: F:\biocbuild\bbs-3.16-bioc\R\bin\R.exe CMD INSTALL BASiCStan StartedAt: 2023-04-10 16:18:55 -0400 (Mon, 10 Apr 2023) EndedAt: 2023-04-10 16:22:38 -0400 (Mon, 10 Apr 2023) EllapsedTime: 222.1 seconds RetCode: 0 Status: OK