Package: AnVILPublish Version: 1.8.0 Command: chmod a+r AnVILPublish -R && F:\biocbuild\bbs-3.16-bioc\R\bin\R.exe CMD build --keep-empty-dirs --no-resave-data AnVILPublish StartedAt: 2023-04-10 17:02:55 -0400 (Mon, 10 Apr 2023) EndedAt: 2023-04-10 17:03:10 -0400 (Mon, 10 Apr 2023) EllapsedTime: 15.5 seconds RetCode: 0 Status: OK PackageFile: AnVILPublish_1.8.0.tar.gz PackageFileSize: 236.8 KiB