Package: AnVILPublish Version: 1.8.0 Command: rm -rf AnVILPublish.buildbin-libdir && mkdir AnVILPublish.buildbin-libdir && /Users/biocbuild/BBS/utils/build-universal.sh AnVILPublish_1.8.0.tar.gz /Library/Frameworks/R.framework/Resources/bin/R AnVILPublish.buildbin-libdir StartedAt: 2023-04-10 23:32:14 -0400 (Mon, 10 Apr 2023) EndedAt: 2023-04-10 23:32:22 -0400 (Mon, 10 Apr 2023) EllapsedTime: 8.0 seconds RetCode: 0 Status: OK PackageFile: AnVILPublish_1.8.0.tgz PackageFileSize: 259.1 KiB