Package: ASpli Version: 2.7.0 Command: /Library/Frameworks/R.framework/Resources/bin/R CMD build --keep-empty-dirs --no-resave-data ASpli StartedAt: 2022-07-10 20:37:50 -0400 (Sun, 10 Jul 2022) EndedAt: 2022-07-10 20:37:51 -0400 (Sun, 10 Jul 2022) EllapsedTime: 1.1 seconds RetCode: 1 Status: ERROR PackageFile: None PackageFileSize: NA