Package: APL Version: 1.2.0 Command: F:\biocbuild\bbs-3.16-bioc\R\bin\R.exe CMD check --no-multiarch --install=check:APL.install-out.txt --library=F:\biocbuild\bbs-3.16-bioc\R\library --no-vignettes --timings APL_1.2.0.tar.gz StartedAt: 2023-04-10 22:52:54 -0400 (Mon, 10 Apr 2023) EndedAt: 2023-04-10 22:57:46 -0400 (Mon, 10 Apr 2023) EllapsedTime: 291.1 seconds RetCode: 0 Status: OK CheckDir: APL.Rcheck Warnings: 0