Package: APL Version: 1.2.0 Command: rm -rf APL.buildbin-libdir && mkdir APL.buildbin-libdir && /Users/biocbuild/BBS/utils/build-universal.sh APL_1.2.0.tar.gz /Library/Frameworks/R.framework/Resources/bin/R APL.buildbin-libdir StartedAt: 2023-04-10 23:32:14 -0400 (Mon, 10 Apr 2023) EndedAt: 2023-04-10 23:33:09 -0400 (Mon, 10 Apr 2023) EllapsedTime: 55.0 seconds RetCode: 0 Status: OK PackageFile: APL_1.2.0.tgz PackageFileSize: 2.97 MiB