Package: AMOUNTAIN Version: 1.24.0 Command: /home/biocbuild/bbs-3.16-bioc/R/bin/R CMD check --install=check:AMOUNTAIN.install-out.txt --library=/home/biocbuild/bbs-3.16-bioc/R/site-library --timings AMOUNTAIN_1.24.0.tar.gz StartedAt: 2023-04-10 18:56:54 -0400 (Mon, 10 Apr 2023) EndedAt: 2023-04-10 18:57:22 -0400 (Mon, 10 Apr 2023) EllapsedTime: 27.7 seconds RetCode: 0 Status: OK CheckDir: AMOUNTAIN.Rcheck Warnings: 0