git_url: https://git.bioconductor.org/packages/tissueTreg git_branch: RELEASE_3_15 git_last_commit: ba633c9 git_last_commit_date: 2022-04-26 13:30:15 -0400 (Tue, 26 Apr 2022) Package: tissueTreg Version: 1.16.0 Maintainer: Charles Imbusch MaintainerEmail: c.imbusch at dkfz.de