Package: prostateCancerVarambally Version: 1.23.0 Command: /home/biocbuild/bbs-3.15-data-experiment/R/bin/R CMD check --install=check:prostateCancerVarambally.install-out.txt --library=/home/biocbuild/bbs-3.15-data-experiment/R/library --no-vignettes --timings prostateCancerVarambally_1.23.0.tar.gz StartedAt: 2022-02-17 07:47:44 -0500 (Thu, 17 Feb 2022) EndedAt: 2022-02-17 07:48:03 -0500 (Thu, 17 Feb 2022) EllapsedTime: 19.0 seconds RetCode: 0 Status: WARNINGS CheckDir: prostateCancerVarambally.Rcheck Warnings: 1