git_url: https://git.bioconductor.org/packages/macrophage git_branch: RELEASE_3_15 git_last_commit: 424eae9 git_last_commit_date: 2022-04-26 13:32:03 -0400 (Tue, 26 Apr 2022) Package: macrophage Version: 1.12.0 Maintainer: Michael Love MaintainerEmail: michaelisaiahlove at gmail.com