git_url: https://git.bioconductor.org/packages/hapmapsnp5 git_branch: RELEASE_3_15 git_last_commit: 121157d git_last_commit_date: 2022-04-26 12:57:57 -0400 (Tue, 26 Apr 2022) Package: hapmapsnp5 Version: 1.38.0 Maintainer: Benilton Carvalho MaintainerEmail: Benilton.Carvalho at cancer.org.uk