Package: bodymapRat Version: 1.11.0 Command: /home/biocbuild/bbs-3.15-data-experiment/R/bin/R CMD build --keep-empty-dirs --no-resave-data bodymapRat StartedAt: 2022-02-17 05:35:49 -0500 (Thu, 17 Feb 2022) EndedAt: 2022-02-17 05:37:03 -0500 (Thu, 17 Feb 2022) EllapsedTime: 74.5 seconds RetCode: 0 Status: OK PackageFile: bodymapRat_1.11.0.tar.gz PackageFileSize: 284.4 KiB