Package: bodymapRat Version: 1.12.0 Command: /home/biocbuild/bbs-3.15-bioc/R/bin/R CMD check --install=check:bodymapRat.install-out.txt --library=/home/biocbuild/bbs-3.15-bioc/R/library --no-vignettes --timings bodymapRat_1.12.0.tar.gz StartedAt: 2022-10-18 11:11:12 -0400 (Tue, 18 Oct 2022) EndedAt: 2022-10-18 11:13:55 -0400 (Tue, 18 Oct 2022) EllapsedTime: 163.3 seconds RetCode: 0 Status: OK CheckDir: bodymapRat.Rcheck Warnings: 0