Package: WES.1KG.WUGSC Version: 1.28.0 Command: /home/biocbuild/bbs-3.15-bioc/R/bin/R CMD build --keep-empty-dirs --no-resave-data WES.1KG.WUGSC StartedAt: 2022-10-18 10:44:46 -0400 (Tue, 18 Oct 2022) EndedAt: 2022-10-18 10:45:09 -0400 (Tue, 18 Oct 2022) EllapsedTime: 23.6 seconds RetCode: 0 Status: OK PackageFile: WES.1KG.WUGSC_1.28.0.tar.gz PackageFileSize: 373.2 MiB