git_url: https://git.bioconductor.org/packages/PtH2O2lipids git_branch: RELEASE_3_15 git_last_commit: 9e95d67 git_last_commit_date: 2022-04-26 13:27:16 -0400 (Tue, 26 Apr 2022) Package: PtH2O2lipids Version: 1.22.0 Maintainer: James Collins MaintainerEmail: james.r.collins at aya.yale.edu