Package: PWMEnrich.Mmusculus.background Version: 4.30.0 Command: /home/biocbuild/bbs-3.15-bioc/R/bin/R CMD build --keep-empty-dirs --no-resave-data PWMEnrich.Mmusculus.background StartedAt: 2022-10-18 10:35:57 -0400 (Tue, 18 Oct 2022) EndedAt: 2022-10-18 10:35:58 -0400 (Tue, 18 Oct 2022) EllapsedTime: 1.3 seconds RetCode: 0 Status: OK PackageFile: PWMEnrich.Mmusculus.background_4.30.0.tar.gz PackageFileSize: 10.34 MiB