git_url: https://git.bioconductor.org/packages/OMICsPCAdata git_branch: RELEASE_3_15 git_last_commit: f999c79 git_last_commit_date: 2022-04-26 13:31:20 -0400 (Tue, 26 Apr 2022) Package: OMICsPCAdata Version: 1.14.0 Maintainer: Subhadeep Das MaintainerEmail: subhadeep1024 at gmail.com