Package: AshkenazimSonChr21 Version: 1.25.0 Command: /home/biocbuild/bbs-3.15-data-experiment/R/bin/R CMD build --keep-empty-dirs --no-resave-data AshkenazimSonChr21 StartedAt: 2022-02-17 05:34:18 -0500 (Thu, 17 Feb 2022) EndedAt: 2022-02-17 05:35:00 -0500 (Thu, 17 Feb 2022) EllapsedTime: 41.9 seconds RetCode: 0 Status: OK PackageFile: AshkenazimSonChr21_1.25.0.tar.gz PackageFileSize: 9.752 MiB