Package: org.Mxanthus.db Version: 1.0.27 Command: /home/biocbuild/bbs-3.15-bioc/R/bin/R CMD INSTALL org.Mxanthus.db StartedAt: 2022-09-21 03:00:09 -0400 (Wed, 21 Sep 2022) EndedAt: 2022-09-21 03:00:24 -0400 (Wed, 21 Sep 2022) EllapsedTime: 14.8 seconds RetCode: 0 Status: OK