Package: org.Mxanthus.db Version: 1.0.27 Command: /home/biocbuild/bbs-3.15-bioc/R/bin/R CMD build --keep-empty-dirs --no-resave-data org.Mxanthus.db StartedAt: 2022-09-21 03:01:27 -0400 (Wed, 21 Sep 2022) EndedAt: 2022-09-21 03:01:57 -0400 (Wed, 21 Sep 2022) EllapsedTime: 30.1 seconds RetCode: 0 Status: OK PackageFile: org.Mxanthus.db_1.0.27.tar.gz PackageFileSize: 408.4 KiB